BEGIN:VCALENDAR
VERSION:2.0
PRODID:-//pretix//pretix.eu//
BEGIN:VEVENT
UID:pretix-socreatory-arceval--online-4188579@pretix.eu
DTSTART;VALUE=DATE:20250120
DTEND;VALUE=DATE:20250122
DESCRIPTION:Tickets: https://pretix.eu/socreatory/arceval--online/4188579/\
 nVeranstalter: socreatory
DTSTAMP:20260419T174354Z
SUMMARY:ARCEVAL (Online) - Stefan Toth - Deutsch - 3 Tickets verfügbar
END:VEVENT
END:VCALENDAR
