BEGIN:VCALENDAR
VERSION:2.0
PRODID:-//pretix//pretix.eu//
BEGIN:VEVENT
UID:pretix-socreatory-arceval--praesenz-3939276@pretix.eu
DTSTART;VALUE=DATE:20240424
DTEND;VALUE=DATE:20240426
DESCRIPTION:Tickets: https://pretix.eu/socreatory/arceval--praesenz/3939276
 /\nVeranstalter: socreatory
DTSTAMP:20260424T045456Z
LOCATION:Novotel München City Arnulfpark\, Arnulfstraße 57\, 80636 München
SUMMARY:ARCEVAL (München) - Stefan Toth - Deutsch - Ausgebucht
END:VEVENT
END:VCALENDAR
