BEGIN:VCALENDAR
VERSION:2.0
PRODID:-//pretix//pretix.eu//
BEGIN:VEVENT
UID:pretix-socreatory-arceval--praesenz-3997084@pretix.eu
DTSTART;VALUE=DATE:20241119
DTEND;VALUE=DATE:20241121
DESCRIPTION:Tickets: https://pretix.eu/socreatory/arceval--praesenz/3997084
 /\nVeranstalter: socreatory
DTSTAMP:20260420T203158Z
LOCATION:oose\, Schomburgstraße 50\, 22767 Hamburg
SUMMARY:ARCEVAL (Hamburg) - Stefan Toth - Deutsch - 1 Ticket verfügbar
END:VEVENT
END:VCALENDAR
