BEGIN:VCALENDAR
VERSION:2.0
PRODID:-//pretix//pretix.eu//
BEGIN:VEVENT
UID:pretix-socreatory-arch-kickstart--online-3511430@pretix.eu
DTSTART;VALUE=DATE:20221121
DTEND;VALUE=DATE:20221213
DESCRIPTION:Tickets: https://pretix.eu/socreatory/arch-kickstart--online/35
 11430/\nVeranstalter: socreatory
DTSTAMP:20260423T121546Z
LOCATION:Online
SUMMARY:Softwarearchitektur-Kickstart - Termingarantie
END:VEVENT
END:VCALENDAR
