BEGIN:VCALENDAR
VERSION:2.0
PRODID:-//pretix//pretix.eu//
BEGIN:VEVENT
UID:pretix-socreatory-arch-kickstart--online-3861927@pretix.eu
DTSTART;VALUE=DATE:20230911
DTEND;VALUE=DATE:20231003
DESCRIPTION:Tickets: https://pretix.eu/socreatory/arch-kickstart--online/38
 61927/\nVeranstalter: socreatory
DTSTAMP:20260421T075816Z
LOCATION:Online
SUMMARY:Softwarearchitektur-Kickstart - Deutsch - Termingarantie
END:VEVENT
END:VCALENDAR
