BEGIN:VCALENDAR
VERSION:2.0
PRODID:-//pretix//pretix.eu//
BEGIN:VEVENT
UID:pretix-socreatory-cloudinfra--online-3927878@pretix.eu
DTSTART;VALUE=DATE:20240716
DTEND;VALUE=DATE:20240719
DESCRIPTION:Tickets: https://pretix.eu/socreatory/cloudinfra--online/392787
 8/\nVeranstalter: socreatory
DTSTAMP:20260423T224657Z
LOCATION:Online
SUMMARY:CLOUDINFRA (Online) - Kofi Jedamzik - Deutsch - Ausgebucht
END:VEVENT
END:VCALENDAR
