BEGIN:VCALENDAR
VERSION:2.0
PRODID:-//pretix//pretix.eu//
BEGIN:VEVENT
UID:pretix-socreatory-cloudinfra--online-4149631@pretix.eu
DTSTART;VALUE=DATE:20241105
DTEND;VALUE=DATE:20241108
DESCRIPTION:Tickets: https://pretix.eu/socreatory/cloudinfra--online/414963
 1/\nVeranstalter: socreatory
DTSTAMP:20260420T190024Z
LOCATION:Online
SUMMARY:CLOUDINFRA (Online) - Sebastian Schwaiger - Deutsch - Ausgebucht
END:VEVENT
END:VCALENDAR
