BEGIN:VCALENDAR
VERSION:2.0
PRODID:-//pretix//pretix.eu//
BEGIN:VEVENT
UID:pretix-socreatory-cloudinfra--online-4191360@pretix.eu
DTSTART;VALUE=DATE:20241119
DTEND;VALUE=DATE:20241122
DESCRIPTION:Tickets: https://pretix.eu/socreatory/cloudinfra--online/419136
 0/\nVeranstalter: socreatory
DTSTAMP:20260421T081327Z
LOCATION:Online
SUMMARY:CLOUDINFRA (Online) - Sascha Selzer - Deutsch - 2 Tickets verfügba
 r
END:VEVENT
END:VCALENDAR
