BEGIN:VCALENDAR
VERSION:2.0
PRODID:-//pretix//pretix.eu//
BEGIN:VEVENT
UID:pretix-socreatory-cloudinfra--praesenz-2734856@pretix.eu
DTSTART;VALUE=DATE:20220705
DTEND;VALUE=DATE:20220708
DESCRIPTION:Tickets: https://pretix.eu/socreatory/cloudinfra--praesenz/2734
 856/\nVeranstalter: socreatory
DTSTAMP:20260424T231739Z
LOCATION:INNOQ @ WestCube\, Hardturmstrasse 253\, 8005 Zürich
SUMMARY:CLOUDINFRA (Zürich) - Christopher Schmidt - Deutsch
END:VEVENT
END:VCALENDAR
