BEGIN:VCALENDAR
VERSION:2.0
PRODID:-//pretix//pretix.eu//
BEGIN:VEVENT
UID:pretix-socreatory-cloudinfra--praesenz-3264582@pretix.eu
DTSTART;VALUE=DATE:20221026
DTEND;VALUE=DATE:20221029
DESCRIPTION:Tickets: https://pretix.eu/socreatory/cloudinfra--praesenz/3264
 582/\nVeranstalter: socreatory
DTSTAMP:20260424T085812Z
LOCATION:Hotel Nikko Düsseldorf\, Immermannstraße 41\, 40210 Düsseldorf
SUMMARY:CLOUDINFRA (Düsseldorf) - Sascha Selzer - Deutsch - Ausgebucht
END:VEVENT
END:VCALENDAR
