BEGIN:VCALENDAR
VERSION:2.0
PRODID:-//pretix//pretix.eu//
BEGIN:VEVENT
UID:pretix-socreatory-cloudinfra--praesenz-3706358@pretix.eu
DTSTART;VALUE=DATE:20230418
DTEND;VALUE=DATE:20230421
DESCRIPTION:Tickets: https://pretix.eu/socreatory/cloudinfra--praesenz/3706
 358/\nVeranstalter: socreatory
DTSTAMP:20260422T174215Z
LOCATION:Michl's Cafè Restaurant\, Reichsratsstraße 11\, 1010 Wien
SUMMARY:CLOUDINFRA (Wien) - Christopher Schmidt - Deutsch - 3 Tickets verf
 ügbar
END:VEVENT
END:VCALENDAR
