BEGIN:VCALENDAR
VERSION:2.0
PRODID:-//pretix//pretix.eu//
BEGIN:VEVENT
UID:pretix-socreatory-cloudinfra--praesenz-3762267@pretix.eu
DTSTART;VALUE=DATE:20230711
DTEND;VALUE=DATE:20230714
DESCRIPTION:Tickets: https://pretix.eu/socreatory/cloudinfra--praesenz/3762
 267/\nVeranstalter: socreatory
DTSTAMP:20260421T222902Z
LOCATION:Therme Erding
SUMMARY:CLOUDINFRA (Therme Erding) - Christopher Schmidt - Deutsch - Termin
 garantie
END:VEVENT
END:VCALENDAR
