BEGIN:VCALENDAR
VERSION:2.0
PRODID:-//pretix//pretix.eu//
BEGIN:VEVENT
UID:pretix-socreatory-cloudinfra--praesenz-3877258@pretix.eu
DTSTART;VALUE=DATE:20230912
DTEND;VALUE=DATE:20230915
DESCRIPTION:Tickets: https://pretix.eu/socreatory/cloudinfra--praesenz/3877
 258/\nVeranstalter: socreatory
DTSTAMP:20260421T141315Z
LOCATION:die wohngemeinschaft - Kreativräume\, Richard-Wagner-Straße 39 (
 Belgisches Viertel)\, 50674 Köln
SUMMARY:CLOUDINFRA (Köln) - Sascha Selzer - Deutsch -  Termingarantie
END:VEVENT
END:VCALENDAR
