BEGIN:VCALENDAR
VERSION:2.0
PRODID:-//pretix//pretix.eu//
BEGIN:VEVENT
UID:pretix-socreatory-datamesh--praesenz-3580165@pretix.eu
DTSTART;VALUE=DATE:20230117
DTEND;VALUE=DATE:20230119
DESCRIPTION:Tickets: https://pretix.eu/socreatory/datamesh--praesenz/358016
 5/\nVeranstalter: socreatory
DTSTAMP:20260425T105503Z
LOCATION:Design Offices Hamburg\, Domplatz Domstraße 10\, 20095 Hamburg
SUMMARY:Data Mesh (Hamburg) - Jochen Christ & Simon Harrer - Deutsch - Term
 ingarantie
END:VEVENT
END:VCALENDAR
