BEGIN:VCALENDAR
VERSION:2.0
PRODID:-//pretix//pretix.eu//
BEGIN:VEVENT
UID:pretix-socreatory-datamesh--praesenz-3851321@pretix.eu
DTSTART;VALUE=DATE:20230516
DTEND;VALUE=DATE:20230518
DESCRIPTION:Tickets: https://pretix.eu/socreatory/datamesh--praesenz/385132
 1/\nVeranstalter: socreatory
DTSTAMP:20260424T103903Z
LOCATION:betahaus Schanze\, Eifflerstraße 43\, 20769 Hamburg
SUMMARY:Data Mesh (Hamburg) - Jochen Christ & Simon Harrer - Deutsch - Term
 ingarantie
END:VEVENT
END:VCALENDAR
