BEGIN:VCALENDAR
VERSION:2.0
PRODID:-//pretix//pretix.eu//
BEGIN:VEVENT
UID:pretix-socreatory-ddd--online-2511771@pretix.eu
DTSTART;VALUE=DATE:20220920
DTEND;VALUE=DATE:20220923
DESCRIPTION:Tickets: https://pretix.eu/socreatory/ddd--online/2511771/\nVer
 anstalter: socreatory
DTSTAMP:20260426T041452Z
LOCATION:Online
SUMMARY:DDD (Online) - Michael Plöd - Englisch - Ausgebucht
END:VEVENT
END:VCALENDAR
