BEGIN:VCALENDAR
VERSION:2.0
PRODID:-//pretix//pretix.eu//
BEGIN:VEVENT
UID:pretix-socreatory-ddd--online-2511772@pretix.eu
DTSTART;VALUE=DATE:20221108
DTEND;VALUE=DATE:20221111
DESCRIPTION:Tickets: https://pretix.eu/socreatory/ddd--online/2511772/\nVer
 anstalter: socreatory
DTSTAMP:20260425T190853Z
LOCATION:Online
SUMMARY:DDD (Online) - Michael Plöd & Johannes Seitz - Deutsch - Ausgebuch
 t
END:VEVENT
END:VCALENDAR
