BEGIN:VCALENDAR
VERSION:2.0
PRODID:-//pretix//pretix.eu//
BEGIN:VEVENT
UID:pretix-socreatory-ddd--online-2511773@pretix.eu
DTSTART;VALUE=DATE:20221213
DTEND;VALUE=DATE:20221216
DESCRIPTION:Tickets: https://pretix.eu/socreatory/ddd--online/2511773/\nVer
 anstalter: socreatory
DTSTAMP:20260425T192051Z
LOCATION:Online
SUMMARY:DDD (Online) - Michael Plöd - Englisch - Termingarantie
END:VEVENT
END:VCALENDAR
