BEGIN:VCALENDAR
VERSION:2.0
PRODID:-//pretix//pretix.eu//
BEGIN:VEVENT
UID:pretix-socreatory-ddd--online-3494986@pretix.eu
DTSTART;VALUE=DATE:20230321
DTEND;VALUE=DATE:20230324
DESCRIPTION:Tickets: https://pretix.eu/socreatory/ddd--online/3494986/\nVer
 anstalter: socreatory
DTSTAMP:20260424T214055Z
LOCATION:Online
SUMMARY:DDD (Online) - Michael Plöd - Deutsch - 1 Ticket verfügbar
END:VEVENT
END:VCALENDAR
