BEGIN:VCALENDAR
VERSION:2.0
PRODID:-//pretix//pretix.eu//
BEGIN:VEVENT
UID:pretix-socreatory-ddd--online-3494987@pretix.eu
DTSTART;VALUE=DATE:20230503
DTEND;VALUE=DATE:20230506
DESCRIPTION:Tickets: https://pretix.eu/socreatory/ddd--online/3494987/\nVer
 anstalter: socreatory
DTSTAMP:20260424T214056Z
LOCATION:Online
SUMMARY:DDD (Online) - Gerrit Beine - Deutsch - 1 Ticket verfügbar
END:VEVENT
END:VCALENDAR
