BEGIN:VCALENDAR
VERSION:2.0
PRODID:-//pretix//pretix.eu//
BEGIN:VEVENT
UID:pretix-socreatory-ddd--online-3834668@pretix.eu
DTSTART;VALUE=DATE:20231025
DTEND;VALUE=DATE:20231028
DESCRIPTION:Tickets: https://pretix.eu/socreatory/ddd--online/3834668/\nVer
 anstalter: socreatory
DTSTAMP:20260423T100648Z
LOCATION:Online
SUMMARY:DDD (Online) - Michael Plöd - Deutsch - 1 Ticket verfügbar
END:VEVENT
END:VCALENDAR
