BEGIN:VCALENDAR
VERSION:2.0
PRODID:-//pretix//pretix.eu//
BEGIN:VEVENT
UID:pretix-socreatory-ddd--online-3834669@pretix.eu
DTSTART;VALUE=DATE:20230904
DTEND;VALUE=DATE:20230907
DESCRIPTION:Tickets: https://pretix.eu/socreatory/ddd--online/3834669/\nVer
 anstalter: socreatory
DTSTAMP:20260423T120634Z
LOCATION:Online
SUMMARY:DDD (Online) - Johannes Seitz - Englisch - Termingarantie
END:VEVENT
END:VCALENDAR
