BEGIN:VCALENDAR
VERSION:2.0
PRODID:-//pretix//pretix.eu//
BEGIN:VEVENT
UID:pretix-socreatory-ddd--online-3844279@pretix.eu
DTSTART;VALUE=DATE:20230816
DTEND;VALUE=DATE:20230819
DESCRIPTION:Tickets: https://pretix.eu/socreatory/ddd--online/3844279/\nVer
 anstalter: socreatory
DTSTAMP:20260423T175947Z
LOCATION:Online
SUMMARY:DDD (Online) - Martin Otten - Deutsch - 2 Tickets verfügbar
END:VEVENT
END:VCALENDAR
