BEGIN:VCALENDAR
VERSION:2.0
PRODID:-//pretix//pretix.eu//
BEGIN:VEVENT
UID:pretix-socreatory-ddd--online-3866928@pretix.eu
DTSTART;VALUE=DATE:20231218
DTEND;VALUE=DATE:20231221
DESCRIPTION:Tickets: https://pretix.eu/socreatory/ddd--online/3866928/\nVer
 anstalter: socreatory
DTSTAMP:20260423T113845Z
LOCATION:Online
SUMMARY:DDD (Online) - Michael Plöd & Johannes Seitz - Deutsch - Ausgebuch
 t
END:VEVENT
END:VCALENDAR
