BEGIN:VCALENDAR
VERSION:2.0
PRODID:-//pretix//pretix.eu//
BEGIN:VEVENT
UID:pretix-socreatory-ddd--online-3869249@pretix.eu
DTSTART;VALUE=DATE:20230628
DTEND;VALUE=DATE:20230701
DESCRIPTION:Tickets: https://pretix.eu/socreatory/ddd--online/3869249/\nVer
 anstalter: socreatory
DTSTAMP:20260424T200008Z
LOCATION:Online
SUMMARY:DDD (Online) - Michael Plöd - Deutsch - Termingarantie
END:VEVENT
END:VCALENDAR
