BEGIN:VCALENDAR
VERSION:2.0
PRODID:-//pretix//pretix.eu//
BEGIN:VEVENT
UID:pretix-socreatory-ddd--online-3934906@pretix.eu
DTSTART;VALUE=DATE:20240506
DTEND;VALUE=DATE:20240509
DESCRIPTION:Tickets: https://pretix.eu/socreatory/ddd--online/3934906/\nVer
 anstalter: socreatory
DTSTAMP:20260421T220139Z
LOCATION:Online
SUMMARY:DDD (Online) - Gerrit Beine - Deutsch - Ausgebucht
END:VEVENT
END:VCALENDAR
