BEGIN:VCALENDAR
VERSION:2.0
PRODID:-//pretix//pretix.eu//
BEGIN:VEVENT
UID:pretix-socreatory-ddd--online-3997099@pretix.eu
DTSTART;VALUE=DATE:20241028
DTEND;VALUE=DATE:20241031
DESCRIPTION:Tickets: https://pretix.eu/socreatory/ddd--online/3997099/\nVer
 anstalter: socreatory
DTSTAMP:20260421T040305Z
LOCATION:Online
SUMMARY:DDD (Online) - Martin Otten - Deutsch - Ausgebucht
END:VEVENT
END:VCALENDAR
