BEGIN:VCALENDAR
VERSION:2.0
PRODID:-//pretix//pretix.eu//
BEGIN:VEVENT
UID:pretix-socreatory-ddd--online-3997100@pretix.eu
DTSTART;VALUE=DATE:20240923
DTEND;VALUE=DATE:20240926
DESCRIPTION:Tickets: https://pretix.eu/socreatory/ddd--online/3997100/\nVer
 anstalter: socreatory
DTSTAMP:20260421T090937Z
LOCATION:Online
SUMMARY:DDD (Online) - Johannes Seitz - Englisch - Termingarantie
END:VEVENT
END:VCALENDAR
