BEGIN:VCALENDAR
VERSION:2.0
PRODID:-//pretix//pretix.eu//
BEGIN:VEVENT
UID:pretix-socreatory-ddd--praesenz-3983662@pretix.eu
DTSTART;VALUE=DATE:20240910
DTEND;VALUE=DATE:20240913
DESCRIPTION:Tickets: https://pretix.eu/socreatory/ddd--praesenz/3983662/\nV
 eranstalter: socreatory
DTSTAMP:20260423T033903Z
LOCATION:Therme Erding\, Thermenallee 1-5\, 85435 Erding
SUMMARY:DDD (Therme Erding) - Michael Plöd - Deutsch - Ausgebucht
END:VEVENT
END:VCALENDAR
