BEGIN:VCALENDAR
VERSION:2.0
PRODID:-//pretix//pretix.eu//
BEGIN:VEVENT
UID:pretix-socreatory-flex--online-2508108@pretix.eu
DTSTART;VALUE=DATE:20221017
DTEND;VALUE=DATE:20221020
DESCRIPTION:Tickets: https://pretix.eu/socreatory/flex--online/2508108/\nVe
 ranstalter: socreatory
DTSTAMP:20260422T180553Z
LOCATION:Online
SUMMARY:FLEX (Online) - Eberhard Wolff - Deutsch - AUSGEBUCHT!
END:VEVENT
END:VCALENDAR
