BEGIN:VCALENDAR
VERSION:2.0
PRODID:-//pretix//pretix.eu//
BEGIN:VEVENT
UID:pretix-socreatory-flex--online-2719159@pretix.eu
DTSTART;VALUE=DATE:20221214
DTEND;VALUE=DATE:20221217
DESCRIPTION:Tickets: https://pretix.eu/socreatory/flex--online/2719159/\nVe
 ranstalter: socreatory
DTSTAMP:20260422T195421Z
LOCATION:Online
SUMMARY:FLEX (Online) - Arne Landwehr - Deutsch - Ausgebucht
END:VEVENT
END:VCALENDAR
