BEGIN:VCALENDAR
VERSION:2.0
PRODID:-//pretix//pretix.eu//
BEGIN:VEVENT
UID:pretix-socreatory-flex--online-3495000@pretix.eu
DTSTART;VALUE=DATE:20230328
DTEND;VALUE=DATE:20230331
DESCRIPTION:Tickets: https://pretix.eu/socreatory/flex--online/3495000/\nVe
 ranstalter: socreatory
DTSTAMP:20260421T160100Z
LOCATION:Online
SUMMARY:FLEX (Online) - Sascha Selzer - Deutsch - Ausgebucht
END:VEVENT
END:VCALENDAR
