BEGIN:VCALENDAR
VERSION:2.0
PRODID:-//pretix//pretix.eu//
BEGIN:VEVENT
UID:pretix-socreatory-flex--online-3495006@pretix.eu
DTSTART;VALUE=DATE:20230123
DTEND;VALUE=DATE:20230126
DESCRIPTION:Tickets: https://pretix.eu/socreatory/flex--online/3495006/\nVe
 ranstalter: socreatory
DTSTAMP:20260422T131837Z
LOCATION:Online
SUMMARY:FLEX (Online) - Eberhard Wolff - Deutsch - Ausgebucht
END:VEVENT
END:VCALENDAR
