BEGIN:VCALENDAR
VERSION:2.0
PRODID:-//pretix//pretix.eu//
BEGIN:VEVENT
UID:pretix-socreatory-flex--online-3722658@pretix.eu
DTSTART;VALUE=DATE:20230222
DTEND;VALUE=DATE:20230225
DESCRIPTION:Tickets: https://pretix.eu/socreatory/flex--online/3722658/\nVe
 ranstalter: socreatory
DTSTAMP:20260421T175935Z
LOCATION:Online
SUMMARY:FLEX (Online) - Falk Sippach - Deutsch - Termingarantie
END:VEVENT
END:VCALENDAR
