BEGIN:VCALENDAR
VERSION:2.0
PRODID:-//pretix//pretix.eu//
BEGIN:VEVENT
UID:pretix-socreatory-flex--online-3838353@pretix.eu
DTSTART;VALUE=DATE:20230821
DTEND;VALUE=DATE:20230824
DESCRIPTION:Tickets: https://pretix.eu/socreatory/flex--online/3838353/\nVe
 ranstalter: socreatory
DTSTAMP:20260421T060315Z
LOCATION:Online
SUMMARY:FLEX (Online) - Eberhard Wolff - Deutsch - Ausgebucht
END:VEVENT
END:VCALENDAR
