BEGIN:VCALENDAR
VERSION:2.0
PRODID:-//pretix//pretix.eu//
BEGIN:VEVENT
UID:pretix-socreatory-flex--online-3858996@pretix.eu
DTSTART;VALUE=DATE:20230531
DTEND;VALUE=DATE:20230603
DESCRIPTION:Tickets: https://pretix.eu/socreatory/flex--online/3858996/\nVe
 ranstalter: socreatory
DTSTAMP:20260421T193936Z
LOCATION:Online
SUMMARY:FLEX (Online) - Stefan Zörner - Deutsch - Termingarantie
END:VEVENT
END:VCALENDAR
