BEGIN:VCALENDAR
VERSION:2.0
PRODID:-//pretix//pretix.eu//
BEGIN:VEVENT
UID:pretix-socreatory-flex--online-3862555@pretix.eu
DTSTART;VALUE=DATE:20231106
DTEND;VALUE=DATE:20231109
DESCRIPTION:Tickets: https://pretix.eu/socreatory/flex--online/3862555/\nVe
 ranstalter: socreatory
DTSTAMP:20260420T172820Z
LOCATION:Online
SUMMARY:FLEX (Online) - Stefan Zörner - Deutsch - 1 Ticket verfügbar
END:VEVENT
END:VCALENDAR
