BEGIN:VCALENDAR
VERSION:2.0
PRODID:-//pretix//pretix.eu//
BEGIN:VEVENT
UID:pretix-socreatory-flex--online-3934798@pretix.eu
DTSTART;VALUE=DATE:20240115
DTEND;VALUE=DATE:20240118
DESCRIPTION:Tickets: https://pretix.eu/socreatory/flex--online/3934798/\nVe
 ranstalter: socreatory
DTSTAMP:20260420T085957Z
LOCATION:Online
SUMMARY:FLEX (Online) - Alexander Kaserbacher - Deutsch - Termingarantie
END:VEVENT
END:VCALENDAR
