BEGIN:VCALENDAR
VERSION:2.0
PRODID:-//pretix//pretix.eu//
BEGIN:VEVENT
UID:pretix-socreatory-flex--online-3934907@pretix.eu
DTSTART;VALUE=DATE:20240603
DTEND;VALUE=DATE:20240606
DESCRIPTION:Tickets: https://pretix.eu/socreatory/flex--online/3934907/\nVe
 ranstalter: socreatory
DTSTAMP:20260419T181249Z
LOCATION:Online
SUMMARY:FLEX (Online) - Eberhard Wolff - Deutsch - Ausgebucht
END:VEVENT
END:VCALENDAR
