BEGIN:VCALENDAR
VERSION:2.0
PRODID:-//pretix//pretix.eu//
BEGIN:VEVENT
UID:pretix-socreatory-flex--online-4191361@pretix.eu
DTSTART;VALUE=DATE:20250114
DTEND;VALUE=DATE:20250117
DESCRIPTION:Tickets: https://pretix.eu/socreatory/flex--online/4191361/\nVe
 ranstalter: socreatory
DTSTAMP:20260423T040201Z
LOCATION:Online
SUMMARY:FLEX (Online) - Alexander Kaserbacher - Deutsch - Ausgebucht
END:VEVENT
END:VCALENDAR
