BEGIN:VCALENDAR
VERSION:2.0
PRODID:-//pretix//pretix.eu//
BEGIN:VEVENT
UID:pretix-socreatory-flex--praesenz-1447777@pretix.eu
DTSTART;VALUE=DATE:20220509
DTEND;VALUE=DATE:20220512
DESCRIPTION:Tickets: https://pretix.eu/socreatory/flex--praesenz/1447777/\n
 Veranstalter: socreatory
DTSTAMP:20260424T163644Z
LOCATION:Aloft Hotel München\, Bayerstraße 37\, 80335 München
SUMMARY:FLEX (München) - Stefan Zörner - Deutsch - Termingarantie!
END:VEVENT
END:VCALENDAR
