BEGIN:VCALENDAR
VERSION:2.0
PRODID:-//pretix//pretix.eu//
BEGIN:VEVENT
UID:pretix-socreatory-flex--praesenz-1447778@pretix.eu
DTSTART;VALUE=DATE:20221010
DTEND;VALUE=DATE:20221013
DESCRIPTION:Tickets: https://pretix.eu/socreatory/flex--praesenz/1447778/\n
 Veranstalter: socreatory
DTSTAMP:20260423T070011Z
LOCATION:Best Western Hotel Darmstadt Mitte\, Grafenstr. 31\, 64283 Darmsta
 dt
SUMMARY:FLEX (Darmstadt) - Falk Sippach - Deutsch
END:VEVENT
END:VCALENDAR
