BEGIN:VCALENDAR
VERSION:2.0
PRODID:-//pretix//pretix.eu//
BEGIN:VEVENT
UID:pretix-socreatory-flex--praesenz-3382616@pretix.eu
DTSTART;VALUE=DATE:20230426
DTEND;VALUE=DATE:20230429
DESCRIPTION:Tickets: https://pretix.eu/socreatory/flex--praesenz/3382616/\n
 Veranstalter: socreatory
DTSTAMP:20260422T143328Z
LOCATION:Best Western Hotel Darmstadt Mitte\, Grafenstr. 31\, 64283 Darmsta
 dt
SUMMARY:FLEX (Darmstadt) - Falk Sippach - Deutsch - Termingarantie
END:VEVENT
END:VCALENDAR
