BEGIN:VCALENDAR
VERSION:2.0
PRODID:-//pretix//pretix.eu//
BEGIN:VEVENT
UID:pretix-socreatory-flex--praesenz-3382618@pretix.eu
DTSTART;VALUE=DATE:20231017
DTEND;VALUE=DATE:20231020
DESCRIPTION:Tickets: https://pretix.eu/socreatory/flex--praesenz/3382618/\n
 Veranstalter: socreatory
DTSTAMP:20260421T120623Z
LOCATION:Maritim Hotel München\, Goethestraße 7\, 80336 München
SUMMARY:FLEX (München) - Stefan Zörner & Alexander Kaserbacher - Deutsch 
 - Ausgebucht
END:VEVENT
END:VCALENDAR
