BEGIN:VCALENDAR
VERSION:2.0
PRODID:-//pretix//pretix.eu//
BEGIN:VEVENT
UID:pretix-socreatory-flex--praesenz-3496688@pretix.eu
DTSTART;VALUE=DATE:20230619
DTEND;VALUE=DATE:20230622
DESCRIPTION:Tickets: https://pretix.eu/socreatory/flex--praesenz/3496688/\n
 Veranstalter: socreatory
DTSTAMP:20260422T095105Z
LOCATION:Düsseldorf\, Clayton Hotel\, Immermannstr. 41\, 40210 Düsseldorf
SUMMARY:FLEX (Düsseldorf) - Christoph Iserlohn - Deutsch - Termingarantie
END:VEVENT
END:VCALENDAR
