BEGIN:VCALENDAR
VERSION:2.0
PRODID:-//pretix//pretix.eu//
BEGIN:VEVENT
UID:pretix-socreatory-flex--praesenz-3939278@pretix.eu
DTSTART;VALUE=DATE:20240415
DTEND;VALUE=DATE:20240418
DESCRIPTION:Tickets: https://pretix.eu/socreatory/flex--praesenz/3939278/\n
 Veranstalter: socreatory
DTSTAMP:20260420T195522Z
LOCATION:Kultion Factory\, Westendstr. 123 F\, 80339 München
SUMMARY:FLEX (München) - Christoph Iserlohn - Deutsch - 1 Ticket verfügbar
END:VEVENT
END:VCALENDAR
