BEGIN:VCALENDAR
VERSION:2.0
PRODID:-//pretix//pretix.eu//
BEGIN:VEVENT
UID:pretix-socreatory-flex--praesenz-3947538@pretix.eu
DTSTART;VALUE=DATE:20240213
DTEND;VALUE=DATE:20240216
DESCRIPTION:Tickets: https://pretix.eu/socreatory/flex--praesenz/3947538/\n
 Veranstalter: socreatory
DTSTAMP:20260421T060323Z
LOCATION:Design Offices Karlsruhe Bahnhofplatz\, Bahnhofsplatz 12\, 76137 K
 arlsruhe
SUMMARY:FLEX (Karlsruhe) - Eberhard Wolff - Deutsch - Ausgebucht
END:VEVENT
END:VCALENDAR
