BEGIN:VCALENDAR
VERSION:2.0
PRODID:-//pretix//pretix.eu//
BEGIN:VEVENT
UID:pretix-socreatory-flex--praesenz-3983721@pretix.eu
DTSTART;VALUE=DATE:20240930
DTEND;VALUE=DATE:20241003
DESCRIPTION:Tickets: https://pretix.eu/socreatory/flex--praesenz/3983721/\n
 Veranstalter: socreatory
DTSTAMP:20260420T062707Z
LOCATION:Flemings Hotel Frankfurt-Central\, Poststraße 8\, 60329 Frankfurt
  am Main
SUMMARY:FLEX (Frankfurt) - Martin Otten- Deutsch - Ausgebucht
END:VEVENT
END:VCALENDAR
