BEGIN:VCALENDAR
VERSION:2.0
PRODID:-//pretix//pretix.eu//
BEGIN:VEVENT
UID:pretix-socreatory-flex--praesenz-3997072@pretix.eu
DTSTART;VALUE=DATE:20241112
DTEND;VALUE=DATE:20241115
DESCRIPTION:Tickets: https://pretix.eu/socreatory/flex--praesenz/3997072/\n
 Veranstalter: socreatory
DTSTAMP:20260419T225230Z
LOCATION:Adina Apartment Hotel Hamburg Speicherstadt\, Willy-Brandt-Str. 25
 \, 20457 Hamburg
SUMMARY:FLEX (Hamburg) - Alexander Kaserbacher - Deutsch - 3 Tickets verfü
 gbar
END:VEVENT
END:VCALENDAR
