BEGIN:VCALENDAR
VERSION:2.0
PRODID:-//pretix//pretix.eu//
BEGIN:VEVENT
UID:pretix-socreatory-flex--praesenz-4743194@pretix.eu
DTSTART;VALUE=DATE:20260427
DTEND;VALUE=DATE:20260430
DESCRIPTION:Tickets: https://pretix.eu/socreatory/flex--praesenz/4743194/\n
 Veranstalter: socreatory
DTSTAMP:20260420T180612Z
LOCATION:codecentric AG\, August-Everding-Straße 20\, 81671 München
SUMMARY:FLEX (München) - Christoph Iserlohn - Deutsch - 2 Tickets verfügb
 ar
END:VEVENT
END:VCALENDAR
